BEGIN:VCALENDAR
VERSION:2.0
PRODID:icalendar-ruby
CALSCALE:GREGORIAN
METHOD:PUBLISH
BEGIN:VEVENT
DTSTAMP:20260423T192608Z
UID:23-1090012@gracehere.org
DTSTART:20261007T170000Z
DTEND:20261007T183000Z
CLASS:PUBLIC
CREATED:20260423T105533
DESCRIPTION:Weekly Wednesday Gatherings take place from 10 – 11:30 a.m. i
 n the Grace sanctuary. The service combines conversation and reflection on
  the biblical texts for the following Sunday\, includes healing prayer\, a
 nd concludes with Eucharist. \n \nContact: Rev. Eric Mason.
LAST-MODIFIED:20260423T105533
LOCATION:
SUMMARY:Wednesday Gathering
URL;VALUE=URI:https://www.gracehere.org/events/wednesday-gathering/2026-10-
 07
ATTACH;FILENAME=Wednesday-gathering.jpg;FMTTYPE=image/jpeg:https://dq5pwpg1
 q8ru0.cloudfront.net/2024/03/26/17/40/39/5b1cb762-3162-4d70-9dcd-a3c1dcdf5
 31b/Wednesday-gathering.jpg
END:VEVENT
END:VCALENDAR
