BEGIN:VCALENDAR
VERSION:2.0
PRODID:icalendar-ruby
CALSCALE:GREGORIAN
METHOD:PUBLISH
BEGIN:VEVENT
DTSTAMP:20260421T101529Z
UID:8-1076203@gracehere.org
DTSTART:20260809T150000Z
DTEND:20260809T160000Z
CLASS:PUBLIC
CREATED:20260420T174618
DESCRIPTION:Worship/Eucharist
LAST-MODIFIED:20260420T174618
LOCATION:
SUMMARY:Worship/Eucharist
URL;VALUE=URI:https://www.gracehere.org/events/worship-eucharist--8/2026-08
 -09
END:VEVENT
END:VCALENDAR
