BEGIN:VCALENDAR
VERSION:2.0
PRODID:icalendar-ruby
CALSCALE:GREGORIAN
METHOD:PUBLISH
BEGIN:VEVENT
DTSTAMP:20260421T130459Z
UID:8-1077097@gracehere.org
DTSTART:20260823T150000Z
DTEND:20260823T160000Z
CLASS:PUBLIC
CREATED:20260421T045254
DESCRIPTION:Worship/Eucharist
LAST-MODIFIED:20260421T045254
LOCATION:
SUMMARY:Worship/Eucharist
URL;VALUE=URI:https://www.gracehere.org/events/worship-eucharist--8/2026-08
 -23
END:VEVENT
END:VCALENDAR
