BEGIN:VCALENDAR
VERSION:2.0
PRODID:icalendar-ruby
CALSCALE:GREGORIAN
METHOD:PUBLISH
BEGIN:VEVENT
DTSTAMP:20260421T231426Z
UID:8-1080675@gracehere.org
DTSTART:20261004T150000Z
DTEND:20261004T160000Z
CLASS:PUBLIC
CREATED:20260421T152217
DESCRIPTION:Worship/Eucharist
LAST-MODIFIED:20260421T152217
LOCATION:
SUMMARY:Worship/Eucharist
URL;VALUE=URI:https://www.gracehere.org/events/worship-eucharist--8/2026-10
 -04
END:VEVENT
END:VCALENDAR
