BEGIN:VCALENDAR
VERSION:2.0
PRODID:icalendar-ruby
CALSCALE:GREGORIAN
METHOD:PUBLISH
BEGIN:VEVENT
DTSTAMP:20260422T004453Z
UID:8-1080676@gracehere.org
DTSTART:20261011T150000Z
DTEND:20261011T160000Z
CLASS:PUBLIC
CREATED:20260421T152217
DESCRIPTION:Worship/Eucharist
LAST-MODIFIED:20260421T152217
LOCATION:
SUMMARY:Worship/Eucharist
URL;VALUE=URI:https://www.gracehere.org/events/worship-eucharist--8/2026-10
 -11
END:VEVENT
END:VCALENDAR
