BEGIN:VCALENDAR
VERSION:2.0
PRODID:icalendar-ruby
CALSCALE:GREGORIAN
METHOD:PUBLISH
BEGIN:VEVENT
DTSTAMP:20260422T021354Z
UID:8-1081570@gracehere.org
DTSTART:20261018T150000Z
DTEND:20261018T160000Z
CLASS:PUBLIC
CREATED:20260421T180058
DESCRIPTION:Worship/Eucharist
LAST-MODIFIED:20260421T180058
LOCATION:
SUMMARY:Worship/Eucharist
URL;VALUE=URI:https://www.gracehere.org/events/worship-eucharist--8/2026-10
 -18
END:VEVENT
END:VCALENDAR
