BEGIN:VCALENDAR
VERSION:2.0
PRODID:icalendar-ruby
CALSCALE:GREGORIAN
METHOD:PUBLISH
BEGIN:VEVENT
DTSTAMP:20260424T022023Z
UID:7-1091259@gracehere.org
DTSTART:20261011T163000Z
DTEND:20261011T180000Z
CLASS:PUBLIC
CREATED:20260423T164450
DESCRIPTION:Worship/Eucharist
LAST-MODIFIED:20260423T164450
LOCATION:
SUMMARY:Worship/Eucharist
URL;VALUE=URI:https://www.gracehere.org/events/worship-eucharist/2026-10-11
END:VEVENT
END:VCALENDAR
