BEGIN:VCALENDAR
VERSION:2.0
PRODID:icalendar-ruby
CALSCALE:GREGORIAN
METHOD:PUBLISH
BEGIN:VEVENT
DTSTAMP:20260424T054124Z
UID:7-1092156@gracehere.org
DTSTART:20261025T163000Z
DTEND:20261025T180000Z
CLASS:PUBLIC
CREATED:20260423T193857
DESCRIPTION:Worship/Eucharist
LAST-MODIFIED:20260423T193857
LOCATION:
SUMMARY:Worship/Eucharist
URL;VALUE=URI:https://www.gracehere.org/events/worship-eucharist/2026-10-25
END:VEVENT
END:VCALENDAR
